BEGIN:VCALENDAR
VERSION:2.0
PRODID:-//Haymarket Regional Food Pantry - ECPv6.11.0.1//NONSGML v1.0//EN
CALSCALE:GREGORIAN
METHOD:PUBLISH
X-WR-CALNAME:Haymarket Regional Food Pantry
X-ORIGINAL-URL:https://haymarketfoodpantry.org
X-WR-CALDESC:Events for Haymarket Regional Food Pantry
REFRESH-INTERVAL;VALUE=DURATION:PT1H
X-Robots-Tag:noindex
X-PUBLISHED-TTL:PT1H
BEGIN:VTIMEZONE
TZID:America/New_York
BEGIN:DAYLIGHT
TZOFFSETFROM:-0500
TZOFFSETTO:-0400
TZNAME:EDT
DTSTART:20240310T070000
END:DAYLIGHT
BEGIN:STANDARD
TZOFFSETFROM:-0400
TZOFFSETTO:-0500
TZNAME:EST
DTSTART:20241103T060000
END:STANDARD
END:VTIMEZONE
BEGIN:VEVENT
DTSTART;TZID=America/New_York:20240316T150000
DTEND;TZID=America/New_York:20240316T173000
DTSTAMP:20260421T055114
CREATED:20231220T195934Z
LAST-MODIFIED:20240210T032818Z
UID:19627-1710601200-1710610200@haymarketfoodpantry.org
SUMMARY:Soup-er Bingo 2024!
DESCRIPTION:Join us for Soup-er Bingo on March 16 at Piney Branch Elementary School in Gainesville. \nBingo cards will be available for $1.00 per card or 1 Soup-related food item per bingo card. “Soup” includes items such as soup\, canned vegetables\, grains\, dried beans\, pasta\, and the like. Use code: EarlyBird24 and save $1 on every 10 pack before March 9!\n\nSnacks and refreshments will also be available for purchase (cash only). We expect to play ten rounds of Bingo\, with brief breaks for snacks and 50/50 raffle. Doors open at 2 PM\, Bingo begins at 3:00 PM\, and event should end around 5:30 PM after 10 rounds of Bingo.\nDon’t miss a great afternoon of fun and CASH PRIZES to benefit the Haymarket Regional Food Pantry!
URL:https://haymarketfoodpantry.org/event/soup-er-bingo/
LOCATION:Piney Branch Elementary School\, 8301 Linton Hall Rd\, Bristow\, VA\, 20136\, United States
END:VEVENT
END:VCALENDAR